BEGIN:VCALENDAR
VERSION:2.0
PRODID:-//Fahrschule Leder - ECPv5.4.0.2//NONSGML v1.0//EN
CALSCALE:GREGORIAN
METHOD:PUBLISH
X-WR-CALNAME:Fahrschule Leder
X-ORIGINAL-URL:https://fahrschule-leder.de
X-WR-CALDESC:Veranstaltungen für Fahrschule Leder
BEGIN:VTIMEZONE
TZID:Europe/Berlin
BEGIN:DAYLIGHT
TZOFFSETFROM:+0100
TZOFFSETTO:+0200
TZNAME:CEST
DTSTART:20240331T010000
END:DAYLIGHT
BEGIN:STANDARD
TZOFFSETFROM:+0200
TZOFFSETTO:+0100
TZNAME:CET
DTSTART:20241027T010000
END:STANDARD
END:VTIMEZONE
BEGIN:VEVENT
DTSTART;TZID=Europe/Berlin:20240123T183000
DTEND;TZID=Europe/Berlin:20240123T200000
DTSTAMP:20260419T192622
CREATED:20240101T104200Z
LAST-MODIFIED:20240101T104200Z
UID:2033-1706034600-1706040000@fahrschule-leder.de
SUMMARY:Grundstoff 1
DESCRIPTION:Grundstoff 1
URL:https://fahrschule-leder.de/kurs/grundstoff-1-24/
END:VEVENT
END:VCALENDAR