BEGIN:VCALENDAR
VERSION:2.0
PRODID:-//Fahrschule Leder - ECPv5.4.0.2//NONSGML v1.0//EN
CALSCALE:GREGORIAN
METHOD:PUBLISH
X-WR-CALNAME:Fahrschule Leder
X-ORIGINAL-URL:https://fahrschule-leder.de
X-WR-CALDESC:Veranstaltungen für Fahrschule Leder
BEGIN:VTIMEZONE
TZID:Europe/Berlin
BEGIN:DAYLIGHT
TZOFFSETFROM:+0100
TZOFFSETTO:+0200
TZNAME:CEST
DTSTART:20250330T010000
END:DAYLIGHT
BEGIN:STANDARD
TZOFFSETFROM:+0200
TZOFFSETTO:+0100
TZNAME:CET
DTSTART:20251026T010000
END:STANDARD
END:VTIMEZONE
BEGIN:VEVENT
DTSTART;TZID=Europe/Berlin:20250812T183000
DTEND;TZID=Europe/Berlin:20250812T200000
DTSTAMP:20260421T222232
CREATED:20250625T164947Z
LAST-MODIFIED:20250625T164947Z
UID:2340-1755023400-1755028800@fahrschule-leder.de
SUMMARY:Grundstoff 12
DESCRIPTION:Grundstoff 12
URL:https://fahrschule-leder.de/kurs/grundstoff-12-32/
END:VEVENT
END:VCALENDAR