BEGIN:VCALENDAR
VERSION:2.0
PRODID:-//Fahrschule Leder - ECPv5.4.0.2//NONSGML v1.0//EN
CALSCALE:GREGORIAN
METHOD:PUBLISH
X-WR-CALNAME:Fahrschule Leder
X-ORIGINAL-URL:https://fahrschule-leder.de
X-WR-CALDESC:Veranstaltungen für Fahrschule Leder
BEGIN:VTIMEZONE
TZID:Europe/Berlin
BEGIN:DAYLIGHT
TZOFFSETFROM:+0100
TZOFFSETTO:+0200
TZNAME:CEST
DTSTART:20250330T010000
END:DAYLIGHT
BEGIN:STANDARD
TZOFFSETFROM:+0200
TZOFFSETTO:+0100
TZNAME:CET
DTSTART:20251026T010000
END:STANDARD
END:VTIMEZONE
BEGIN:VEVENT
DTSTART;TZID=Europe/Berlin:20250128T183000
DTEND;TZID=Europe/Berlin:20250128T200000
DTSTAMP:20260422T123530
CREATED:20250103T151523Z
LAST-MODIFIED:20250103T151523Z
UID:2253-1738089000-1738094400@fahrschule-leder.de
SUMMARY:Grundstoff 5
DESCRIPTION:Grundstoff 5
URL:https://fahrschule-leder.de/kurs/grundstoff-5-34/
END:VEVENT
END:VCALENDAR